BEGIN:VCALENDAR
VERSION:2.0
CALSCALE:GREGORIAN
BEGIN:VEVENT
URL:https://www.learndesk.us/class/6606029947142144/lesson/7e46a2ba70a235c2bfb710f22bd98498?ref=outlook-calendar
SUMMARY:Introducing "sticky" Positioning
DTSTART;TZID=America/Los_Angeles:20260423T190000
DTEND;TZID=America/Los_Angeles:20260423T200000
LOCATION:https://www.learndesk.us/class/6606029947142144/lesson/7e46a2ba70a235c2bfb710f22bd98498?ref=outlook-calendar
DESCRIPTION: Time to have a look at "sticky" positioning, combining the advantages of "fixed" and "relative". How it works? Let's have a look in an example project.

https://www.learndesk.us/class/6606029947142144/lesson/7e46a2ba70a235c2bfb710f22bd98498?ref=outlook-calendar
STATUS:CONFIRMED
SEQUENCE:3
BEGIN:VALARM
TRIGGER:-PT10M
DESCRIPTION:Class Reminder
ACTION:DISPLAY
END:VALARM
END:VEVENT
END:VCALENDAR