BEGIN:VCALENDAR
VERSION:2.0
CALSCALE:GREGORIAN
BEGIN:VEVENT
URL:https://www.learndesk.us/class/6606029947142144/lesson/7e13c8317ab83233aa99918a7a98d9e9?ref=outlook-calendar
SUMMARY:Things to be improved with Sass
DTSTART;TZID=America/Los_Angeles:20260422T190000
DTEND;TZID=America/Los_Angeles:20260422T200000
LOCATION:https://www.learndesk.us/class/6606029947142144/lesson/7e13c8317ab83233aa99918a7a98d9e9?ref=outlook-calendar
DESCRIPTION: What can Sass do for us? Let's take a look.

https://www.learndesk.us/class/6606029947142144/lesson/7e13c8317ab83233aa99918a7a98d9e9?ref=outlook-calendar
STATUS:CONFIRMED
SEQUENCE:3
BEGIN:VALARM
TRIGGER:-PT10M
DESCRIPTION:Class Reminder
ACTION:DISPLAY
END:VALARM
END:VEVENT
END:VCALENDAR