BEGIN:VCALENDAR
VERSION:2.0
CALSCALE:GREGORIAN
BEGIN:VEVENT
URL:https://www.learndesk.us/class/6606029947142144/lesson/7b7e875d9580ecd7fdac08ae2357b5ba?ref=outlook-calendar
SUMMARY:Understanding Advanced Attribute Selectors
DTSTART;TZID=America/Los_Angeles:20260422T190000
DTEND;TZID=America/Los_Angeles:20260422T200000
LOCATION:https://www.learndesk.us/class/6606029947142144/lesson/7b7e875d9580ecd7fdac08ae2357b5ba?ref=outlook-calendar
DESCRIPTION: There's one feature we didn't have a closer look at yet: Advanced attribute selectors. Time to change that.

https://www.learndesk.us/class/6606029947142144/lesson/7b7e875d9580ecd7fdac08ae2357b5ba?ref=outlook-calendar
STATUS:CONFIRMED
SEQUENCE:3
BEGIN:VALARM
TRIGGER:-PT10M
DESCRIPTION:Class Reminder
ACTION:DISPLAY
END:VALARM
END:VEVENT
END:VCALENDAR