BEGIN:VCALENDAR
VERSION:2.0
CALSCALE:GREGORIAN
BEGIN:VEVENT
URL:https://www.learndesk.us/class/6606029947142144/lesson/7a16ea422373ac0b61a18718cb2fd580?ref=outlook-calendar
SUMMARY:Theory Time – Combinators
DTSTART;TZID=America/Los_Angeles:20260423T190000
DTEND;TZID=America/Los_Angeles:20260423T200000
LOCATION:https://www.learndesk.us/class/6606029947142144/lesson/7a16ea422373ac0b61a18718cb2fd580?ref=outlook-calendar
DESCRIPTION: We added the descendant combinator, but there are more combinators available in CSS. Time to dive into these in this theory lecture.

https://www.learndesk.us/class/6606029947142144/lesson/7a16ea422373ac0b61a18718cb2fd580?ref=outlook-calendar
STATUS:CONFIRMED
SEQUENCE:3
BEGIN:VALARM
TRIGGER:-PT10M
DESCRIPTION:Class Reminder
ACTION:DISPLAY
END:VALARM
END:VEVENT
END:VCALENDAR