BEGIN:VCALENDAR
VERSION:2.0
CALSCALE:GREGORIAN
BEGIN:VEVENT
URL:https://www.learndesk.us/class/6606029947142144/lesson/79f32f8c68b1ebbaed3df301978faeb3?ref=outlook-calendar
SUMMARY:Adding a Badge to our Package
DTSTART;TZID=America/Los_Angeles:20260424T190000
DTEND;TZID=America/Los_Angeles:20260424T200000
LOCATION:https://www.learndesk.us/class/6606029947142144/lesson/79f32f8c68b1ebbaed3df301978faeb3?ref=outlook-calendar
DESCRIPTION: The "Plus" plan is the #1 choice for our customers and our recommendation. Why don't we add a badge to this package which indicates exactly what? Let me show you how the "absolute" and "relative" values work together and make the positioning of the badge a breeze.

https://www.learndesk.us/class/6606029947142144/lesson/79f32f8c68b1ebbaed3df301978faeb3?ref=outlook-calendar
STATUS:CONFIRMED
SEQUENCE:3
BEGIN:VALARM
TRIGGER:-PT10M
DESCRIPTION:Class Reminder
ACTION:DISPLAY
END:VALARM
END:VEVENT
END:VCALENDAR