BEGIN:VCALENDAR
VERSION:2.0
CALSCALE:GREGORIAN
BEGIN:VEVENT
URL:https://www.learndesk.us/class/6606029947142144/lesson/77f4fffd5b3fc9d2a44ff96ad4014075?ref=outlook-calendar
SUMMARY:CSS Modules and Their Working Groups
DTSTART;TZID=America/Los_Angeles:20260424T190000
DTEND;TZID=America/Los_Angeles:20260424T200000
LOCATION:https://www.learndesk.us/class/6606029947142144/lesson/77f4fffd5b3fc9d2a44ff96ad4014075?ref=outlook-calendar
DESCRIPTION: Want to stay up-to-date with what's happening in CSS land? Dive into the working groups of the various CSS modules.

https://www.learndesk.us/class/6606029947142144/lesson/77f4fffd5b3fc9d2a44ff96ad4014075?ref=outlook-calendar
STATUS:CONFIRMED
SEQUENCE:3
BEGIN:VALARM
TRIGGER:-PT10M
DESCRIPTION:Class Reminder
ACTION:DISPLAY
END:VALARM
END:VEVENT
END:VCALENDAR