BEGIN:VCALENDAR
VERSION:2.0
CALSCALE:GREGORIAN
BEGIN:VEVENT
URL:https://www.learndesk.us/class/6606029947142144/lesson/77e112ca1c4d386a15ec79ef9bd51a70?ref=outlook-calendar
SUMMARY:Diving Deeper into Relative Positioning
DTSTART;TZID=America/Los_Angeles:20260422T190000
DTEND;TZID=America/Los_Angeles:20260422T200000
LOCATION:https://www.learndesk.us/class/6606029947142144/lesson/77e112ca1c4d386a15ec79ef9bd51a70?ref=outlook-calendar
DESCRIPTION: The "relative" value was very helpful to position the badge, but did we really understand how it works? Let's dive deeper and find out more about its positioning context and its impact on the positioning context on the element it is applied to.

https://www.learndesk.us/class/6606029947142144/lesson/77e112ca1c4d386a15ec79ef9bd51a70?ref=outlook-calendar
STATUS:CONFIRMED
SEQUENCE:3
BEGIN:VALARM
TRIGGER:-PT10M
DESCRIPTION:Class Reminder
ACTION:DISPLAY
END:VALARM
END:VEVENT
END:VCALENDAR