BEGIN:VCALENDAR
VERSION:2.0
CALSCALE:GREGORIAN
BEGIN:VEVENT
URL:https://www.learndesk.us/class/6606029947142144/lesson/76ee1eee56004e1f4ea5f20042a5507e?ref=outlook-calendar
SUMMARY:Moving Elements along the Z-Axis with "translateZ"
DTSTART;TZID=America/Los_Angeles:20260423T190000
DTEND;TZID=America/Los_Angeles:20260423T200000
LOCATION:https://www.learndesk.us/class/6606029947142144/lesson/76ee1eee56004e1f4ea5f20042a5507e?ref=outlook-calendar
DESCRIPTION: So much rotation. Let's now dive into how you may move elements in a 3-dimensional space.

https://www.learndesk.us/class/6606029947142144/lesson/76ee1eee56004e1f4ea5f20042a5507e?ref=outlook-calendar
STATUS:CONFIRMED
SEQUENCE:3
BEGIN:VALARM
TRIGGER:-PT10M
DESCRIPTION:Class Reminder
ACTION:DISPLAY
END:VALARM
END:VEVENT
END:VCALENDAR