BEGIN:VCALENDAR
VERSION:2.0
CALSCALE:GREGORIAN
BEGIN:VEVENT
URL:https://www.learndesk.us/class/6606029947142144/lesson/761d0be2115251e487a50cc2df3012b2?ref=outlook-calendar
SUMMARY:Improving the Packages Page
DTSTART;TZID=America/Los_Angeles:20260422T190000
DTEND;TZID=America/Los_Angeles:20260422T200000
LOCATION:https://www.learndesk.us/class/6606029947142144/lesson/761d0be2115251e487a50cc2df3012b2?ref=outlook-calendar
DESCRIPTION: The packages page also needs some improvement as the look on wider screens is not the best. Time to add an additional media query to improve that.

https://www.learndesk.us/class/6606029947142144/lesson/761d0be2115251e487a50cc2df3012b2?ref=outlook-calendar
STATUS:CONFIRMED
SEQUENCE:3
BEGIN:VALARM
TRIGGER:-PT10M
DESCRIPTION:Class Reminder
ACTION:DISPLAY
END:VALARM
END:VEVENT
END:VCALENDAR