BEGIN:VCALENDAR
VERSION:2.0
CALSCALE:GREGORIAN
BEGIN:VEVENT
URL:https://www.learndesk.us/class/6606029947142144/lesson/73eef12ad73f08e61c4bcb5a0c35428e?ref=outlook-calendar
SUMMARY:Working with Named Lines
DTSTART;TZID=America/Los_Angeles:20260422T190000
DTEND;TZID=America/Los_Angeles:20260422T200000
LOCATION:https://www.learndesk.us/class/6606029947142144/lesson/73eef12ad73f08e61c4bcb5a0c35428e?ref=outlook-calendar
DESCRIPTION: Working with line numbers works fine, but being more specific about the lines we want to refer to would be helpful. Turns out that there is a solution for that - named lines.

https://www.learndesk.us/class/6606029947142144/lesson/73eef12ad73f08e61c4bcb5a0c35428e?ref=outlook-calendar
STATUS:CONFIRMED
SEQUENCE:3
BEGIN:VALARM
TRIGGER:-PT10M
DESCRIPTION:Class Reminder
ACTION:DISPLAY
END:VALARM
END:VEVENT
END:VCALENDAR