BEGIN:VCALENDAR
VERSION:2.0
CALSCALE:GREGORIAN
BEGIN:VEVENT
URL:https://www.learndesk.us/class/6606029947142144/lesson/72791b7955c094b1e44a5909a8703ef9?ref=outlook-calendar
SUMMARY:Diving into the Basics of CSS
DTSTART;TZID=America/Los_Angeles:20260422T190000
DTEND;TZID=America/Los_Angeles:20260422T200000
LOCATION:https://www.learndesk.us/class/6606029947142144/lesson/72791b7955c094b1e44a5909a8703ef9?ref=outlook-calendar
DESCRIPTION: 
In this section, we dive deeper into the basics of CSS. We understand our course project, add CSS to it, applying additional styles and importing Google Fonts and add combinators.

Module Introduction
Understanding the Course Project Setup
Adding CSS to our Project with Inline Styles
Understanding the



https://www.learndesk.us/class/6606029947142144/lesson/72791b7955c094b1e44a5909a8703ef9?ref=outlook-calendar
STATUS:CONFIRMED
SEQUENCE:3
BEGIN:VALARM
TRIGGER:-PT10M
DESCRIPTION:Class Reminder
ACTION:DISPLAY
END:VALARM
END:VEVENT
END:VCALENDAR