BEGIN:VCALENDAR
VERSION:2.0
CALSCALE:GREGORIAN
BEGIN:VEVENT
URL:https://www.learndesk.us/class/6606029947142144/lesson/6ea0dd4d59a8e3a70a30f688146b4e69?ref=outlook-calendar
SUMMARY:Adding the Unstyled Form
DTSTART;TZID=America/Los_Angeles:20260422T190000
DTEND;TZID=America/Los_Angeles:20260422T200000
LOCATION:https://www.learndesk.us/class/6606029947142144/lesson/6ea0dd4d59a8e3a70a30f688146b4e69?ref=outlook-calendar
DESCRIPTION: Time to add the last page of our website - the page which will actually hold the form we need.

https://www.learndesk.us/class/6606029947142144/lesson/6ea0dd4d59a8e3a70a30f688146b4e69?ref=outlook-calendar
STATUS:CONFIRMED
SEQUENCE:3
BEGIN:VALARM
TRIGGER:-PT10M
DESCRIPTION:Class Reminder
ACTION:DISPLAY
END:VALARM
END:VEVENT
END:VCALENDAR