BEGIN:VCALENDAR
VERSION:2.0
CALSCALE:GREGORIAN
BEGIN:VEVENT
URL:https://www.learndesk.us/class/6606029947142144/lesson/6e76abe1936367bce60e8efee007cc0c?ref=outlook-calendar
SUMMARY:Rules to Remember: Fixed Positioning & "%"
DTSTART;TZID=America/Los_Angeles:20260425T190000
DTEND;TZID=America/Los_Angeles:20260425T200000
LOCATION:https://www.learndesk.us/class/6606029947142144/lesson/6e76abe1936367bce60e8efee007cc0c?ref=outlook-calendar
DESCRIPTION: Ok, we applied the "%" unit in our project but apparently we didn't fully understand it. And why is the "position" property important again? A lot of questions, so let's find answers - starting with the "fixed" value.

https://www.learndesk.us/class/6606029947142144/lesson/6e76abe1936367bce60e8efee007cc0c?ref=outlook-calendar
STATUS:CONFIRMED
SEQUENCE:3
BEGIN:VALARM
TRIGGER:-PT10M
DESCRIPTION:Class Reminder
ACTION:DISPLAY
END:VALARM
END:VEVENT
END:VCALENDAR