BEGIN:VCALENDAR
VERSION:2.0
CALSCALE:GREGORIAN
BEGIN:VEVENT
URL:https://www.learndesk.us/class/6606029947142144/lesson/6ddda1bcfab01a8fb02dcfd8dae65764?ref=outlook-calendar
SUMMARY:Adding the Packages Page
DTSTART;TZID=America/Los_Angeles:20260422T190000
DTEND;TZID=America/Los_Angeles:20260422T200000
LOCATION:https://www.learndesk.us/class/6606029947142144/lesson/6ddda1bcfab01a8fb02dcfd8dae65764?ref=outlook-calendar
DESCRIPTION: Time to add more content, this time for the packages page. We know how this works, so let's add the HTML code and apply some basic styling to get started.

https://www.learndesk.us/class/6606029947142144/lesson/6ddda1bcfab01a8fb02dcfd8dae65764?ref=outlook-calendar
STATUS:CONFIRMED
SEQUENCE:3
BEGIN:VALARM
TRIGGER:-PT10M
DESCRIPTION:Class Reminder
ACTION:DISPLAY
END:VALARM
END:VEVENT
END:VCALENDAR