BEGIN:VCALENDAR
VERSION:2.0
CALSCALE:GREGORIAN
BEGIN:VEVENT
URL:https://www.learndesk.us/class/6606029947142144/lesson/6c46676f8cb8364fd34144468ddc18b4?ref=outlook-calendar
SUMMARY:Things to Keep in Mind when Working with Media Queries
DTSTART;TZID=America/Los_Angeles:20260422T190000
DTEND;TZID=America/Los_Angeles:20260422T200000
LOCATION:https://www.learndesk.us/class/6606029947142144/lesson/6c46676f8cb8364fd34144468ddc18b4?ref=outlook-calendar
DESCRIPTION: Media queries are powerful and awesome while applying them is really easy. However, there are some things that we need to know about media queries before we continue styling our website.

https://www.learndesk.us/class/6606029947142144/lesson/6c46676f8cb8364fd34144468ddc18b4?ref=outlook-calendar
STATUS:CONFIRMED
SEQUENCE:3
BEGIN:VALARM
TRIGGER:-PT10M
DESCRIPTION:Class Reminder
ACTION:DISPLAY
END:VALARM
END:VEVENT
END:VCALENDAR