BEGIN:VCALENDAR
VERSION:2.0
CALSCALE:GREGORIAN
BEGIN:VEVENT
URL:https://www.learndesk.us/class/6606029947142144/lesson/6b520688e7b9785fffa943edad8fdec3?ref=outlook-calendar
SUMMARY:Understanding Responsive Grids
DTSTART;TZID=America/Los_Angeles:20260424T190000
DTEND;TZID=America/Los_Angeles:20260424T200000
LOCATION:https://www.learndesk.us/class/6606029947142144/lesson/6b520688e7b9785fffa943edad8fdec3?ref=outlook-calendar
DESCRIPTION: Throughout the course we worked on the responsive design of our website. Our Grid should of course also become repsonsive, so let's find out how we can add media queries to our Grid.

https://www.learndesk.us/class/6606029947142144/lesson/6b520688e7b9785fffa943edad8fdec3?ref=outlook-calendar
STATUS:CONFIRMED
SEQUENCE:3
BEGIN:VALARM
TRIGGER:-PT10M
DESCRIPTION:Class Reminder
ACTION:DISPLAY
END:VALARM
END:VEVENT
END:VCALENDAR