BEGIN:VCALENDAR
VERSION:2.0
CALSCALE:GREGORIAN
BEGIN:VEVENT
URL:https://www.learndesk.us/class/6606029947142144/lesson/6b16aa706e83292255f1f9a36c26fd4a?ref=outlook-calendar
SUMMARY:Course Outline
DTSTART;TZID=America/Los_Angeles:20260423T190000
DTEND;TZID=America/Los_Angeles:20260423T200000
LOCATION:https://www.learndesk.us/class/6606029947142144/lesson/6b16aa706e83292255f1f9a36c26fd4a?ref=outlook-calendar
DESCRIPTION: You now know what CSS is but what does the course actually offer you? This lecture will answer that question.

https://www.learndesk.us/class/6606029947142144/lesson/6b16aa706e83292255f1f9a36c26fd4a?ref=outlook-calendar
STATUS:CONFIRMED
SEQUENCE:3
BEGIN:VALARM
TRIGGER:-PT10M
DESCRIPTION:Class Reminder
ACTION:DISPLAY
END:VALARM
END:VEVENT
END:VCALENDAR