BEGIN:VCALENDAR
VERSION:2.0
CALSCALE:GREGORIAN
BEGIN:VEVENT
URL:https://www.learndesk.us/class/6606029947142144/lesson/6b152aebd9136d780886061313e2daac?ref=outlook-calendar
SUMMARY:Adding "float" to our Package
DTSTART;TZID=America/Los_Angeles:20260422T190000
DTEND;TZID=America/Los_Angeles:20260422T200000
LOCATION:https://www.learndesk.us/class/6606029947142144/lesson/6b152aebd9136d780886061313e2daac?ref=outlook-calendar
DESCRIPTION: Until now the plans are displayed according to the document flow, but we would prefer to display one plan aligned to the right part of the page. How could we achieve this?

https://www.learndesk.us/class/6606029947142144/lesson/6b152aebd9136d780886061313e2daac?ref=outlook-calendar
STATUS:CONFIRMED
SEQUENCE:3
BEGIN:VALARM
TRIGGER:-PT10M
DESCRIPTION:Class Reminder
ACTION:DISPLAY
END:VALARM
END:VEVENT
END:VCALENDAR