BEGIN:VCALENDAR
VERSION:2.0
CALSCALE:GREGORIAN
BEGIN:VEVENT
URL:https://www.learndesk.us/class/6606029947142144/lesson/6a47a7d91d9f6db80f41a465ef4c304c?ref=outlook-calendar
SUMMARY:Defining the Font Size in the Root Element
DTSTART;TZID=America/Los_Angeles:20260422T190000
DTEND;TZID=America/Los_Angeles:20260422T200000
LOCATION:https://www.learndesk.us/class/6606029947142144/lesson/6a47a7d91d9f6db80f41a465ef4c304c?ref=outlook-calendar
DESCRIPTION: Do we have to define a specific font size in our root element (the HTML element)? Let me explain which options we have and which approach we will follow throughout this course.

https://www.learndesk.us/class/6606029947142144/lesson/6a47a7d91d9f6db80f41a465ef4c304c?ref=outlook-calendar
STATUS:CONFIRMED
SEQUENCE:3
BEGIN:VALARM
TRIGGER:-PT10M
DESCRIPTION:Class Reminder
ACTION:DISPLAY
END:VALARM
END:VEVENT
END:VCALENDAR