BEGIN:VCALENDAR
VERSION:2.0
CALSCALE:GREGORIAN
BEGIN:VEVENT
URL:https://www.learndesk.us/class/6606029947142144/lesson/68966265ba21e91599bf1df869569a85?ref=outlook-calendar
SUMMARY:Understanding "auto-fill" and "auto-fit"
DTSTART;TZID=America/Los_Angeles:20260422T190000
DTEND;TZID=America/Los_Angeles:20260422T200000
LOCATION:https://www.learndesk.us/class/6606029947142144/lesson/68966265ba21e91599bf1df869569a85?ref=outlook-calendar
DESCRIPTION: In this lecture, we will learn how we can dynamically generate columns. Because depending on the viewport size more or less space is available on our website so we should ensure that this space is always used in the best possible way.

https://www.learndesk.us/class/6606029947142144/lesson/68966265ba21e91599bf1df869569a85?ref=outlook-calendar
STATUS:CONFIRMED
SEQUENCE:3
BEGIN:VALARM
TRIGGER:-PT10M
DESCRIPTION:Class Reminder
ACTION:DISPLAY
END:VALARM
END:VEVENT
END:VCALENDAR