BEGIN:VCALENDAR
VERSION:2.0
CALSCALE:GREGORIAN
BEGIN:VEVENT
URL:https://www.learndesk.us/class/6606029947142144/lesson/67783f180618ea1c16beb4be181cb63b?ref=outlook-calendar
SUMMARY:Adding and Styling a CTA-Button
DTSTART;TZID=America/Los_Angeles:20260422T190000
DTEND;TZID=America/Los_Angeles:20260422T200000
LOCATION:https://www.learndesk.us/class/6606029947142144/lesson/67783f180618ea1c16beb4be181cb63b?ref=outlook-calendar
DESCRIPTION: Until now we only have list items in our navigation bar. Wouldn't it be great to have a special CTA-button in a different style? I think it would, so let's add one in this video.

https://www.learndesk.us/class/6606029947142144/lesson/67783f180618ea1c16beb4be181cb63b?ref=outlook-calendar
STATUS:CONFIRMED
SEQUENCE:3
BEGIN:VALARM
TRIGGER:-PT10M
DESCRIPTION:Class Reminder
ACTION:DISPLAY
END:VALARM
END:VEVENT
END:VCALENDAR