BEGIN:VCALENDAR
VERSION:2.0
CALSCALE:GREGORIAN
BEGIN:VEVENT
URL:https://www.learndesk.us/class/6606029947142144/lesson/66a42d32e8ca24136e680cbb3a89d34b?ref=outlook-calendar
SUMMARY:Understanding the Browser Settings
DTSTART;TZID=America/Los_Angeles:20260422T190000
DTEND;TZID=America/Los_Angeles:20260422T200000
LOCATION:https://www.learndesk.us/class/6606029947142144/lesson/66a42d32e8ca24136e680cbb3a89d34b?ref=outlook-calendar
DESCRIPTION: The browser is able to apply default settings in case we did not specify a font family in our code. Let's take a closer look at these settings.

https://www.learndesk.us/class/6606029947142144/lesson/66a42d32e8ca24136e680cbb3a89d34b?ref=outlook-calendar
STATUS:CONFIRMED
SEQUENCE:3
BEGIN:VALARM
TRIGGER:-PT10M
DESCRIPTION:Class Reminder
ACTION:DISPLAY
END:VALARM
END:VEVENT
END:VCALENDAR