BEGIN:VCALENDAR
VERSION:2.0
CALSCALE:GREGORIAN
BEGIN:VEVENT
URL:https://www.learndesk.us/class/6606029947142144/lesson/66891ecaad9e07cd6f63bcddb85273c6?ref=outlook-calendar
SUMMARY:Presenting the Core Features to the User
DTSTART;TZID=America/Los_Angeles:20260425T190000
DTEND;TZID=America/Los_Angeles:20260425T200000
LOCATION:https://www.learndesk.us/class/6606029947142144/lesson/66891ecaad9e07cd6f63bcddb85273c6?ref=outlook-calendar
DESCRIPTION: Time to add another (unstyled) section, which presents the core advantages of our hosting service to the user.

https://www.learndesk.us/class/6606029947142144/lesson/66891ecaad9e07cd6f63bcddb85273c6?ref=outlook-calendar
STATUS:CONFIRMED
SEQUENCE:3
BEGIN:VALARM
TRIGGER:-PT10M
DESCRIPTION:Class Reminder
ACTION:DISPLAY
END:VALARM
END:VEVENT
END:VCALENDAR