BEGIN:VCALENDAR
VERSION:2.0
CALSCALE:GREGORIAN
BEGIN:VEVENT
URL:https://www.learndesk.us/class/6606029947142144/lesson/6654efa0516539d3b8474c767932a97f?ref=outlook-calendar
SUMMARY:An Overview of Available Sizes and Units
DTSTART;TZID=America/Los_Angeles:20260422T190000
DTEND;TZID=America/Los_Angeles:20260422T200000
LOCATION:https://www.learndesk.us/class/6606029947142144/lesson/6654efa0516539d3b8474c767932a97f?ref=outlook-calendar
DESCRIPTION: So we have a lot more units to apply, but can we categorize these to get a better overview? Yes we can so time to have a look at the categories in this video.

https://www.learndesk.us/class/6606029947142144/lesson/6654efa0516539d3b8474c767932a97f?ref=outlook-calendar
STATUS:CONFIRMED
SEQUENCE:3
BEGIN:VALARM
TRIGGER:-PT10M
DESCRIPTION:Class Reminder
ACTION:DISPLAY
END:VALARM
END:VEVENT
END:VCALENDAR