BEGIN:VCALENDAR
VERSION:2.0
CALSCALE:GREGORIAN
BEGIN:VEVENT
URL:https://www.learndesk.us/class/6606029947142144/lesson/64e49a3de1391d68542b0a18fe42664a?ref=outlook-calendar
SUMMARY:Your Challenge
DTSTART;TZID=America/Los_Angeles:20260423T190000
DTEND;TZID=America/Los_Angeles:20260423T200000
LOCATION:https://www.learndesk.us/class/6606029947142144/lesson/64e49a3de1391d68542b0a18fe42664a?ref=outlook-calendar
DESCRIPTION: With the responsive web design basics being set, it's your turn. Make our features responsive and turn them into beautifully styled mobile and desktop versions. Let me also show you my solution in case you are not sure how to approach the problem.

https://www.learndesk.us/class/6606029947142144/lesson/64e49a3de1391d68542b0a18fe42664a?ref=outlook-calendar
STATUS:CONFIRMED
SEQUENCE:3
BEGIN:VALARM
TRIGGER:-PT10M
DESCRIPTION:Class Reminder
ACTION:DISPLAY
END:VALARM
END:VEVENT
END:VCALENDAR