BEGIN:VCALENDAR
VERSION:2.0
CALSCALE:GREGORIAN
BEGIN:VEVENT
URL:https://www.learndesk.us/class/6606029947142144/lesson/63bd032532d365f51ad1dd574f458ec9?ref=outlook-calendar
SUMMARY:What we achieved so Far
DTSTART;TZID=America/Los_Angeles:20260422T190000
DTEND;TZID=America/Los_Angeles:20260422T200000
LOCATION:https://www.learndesk.us/class/6606029947142144/lesson/63bd032532d365f51ad1dd574f458ec9?ref=outlook-calendar
DESCRIPTION: We finished (at least partially) our starting page. So let's think about what we achieved so far and how we can continue. Because one page probably is not enough...
 


https://www.learndesk.us/class/6606029947142144/lesson/63bd032532d365f51ad1dd574f458ec9?ref=outlook-calendar
STATUS:CONFIRMED
SEQUENCE:3
BEGIN:VALARM
TRIGGER:-PT10M
DESCRIPTION:Class Reminder
ACTION:DISPLAY
END:VALARM
END:VEVENT
END:VCALENDAR