BEGIN:VCALENDAR
VERSION:2.0
CALSCALE:GREGORIAN
BEGIN:VEVENT
URL:https://www.learndesk.us/class/6606029947142144/lesson/61b3dc415db3dc3e0faf8304e8b459c8?ref=outlook-calendar
SUMMARY:Using "flex-direction" and "flex-wrap"
DTSTART;TZID=America/Los_Angeles:20260426T190000
DTEND;TZID=America/Los_Angeles:20260426T200000
LOCATION:https://www.learndesk.us/class/6606029947142144/lesson/61b3dc415db3dc3e0faf8304e8b459c8?ref=outlook-calendar
DESCRIPTION: Creating a Flex Container automatically applied some assumptions regarding the way our elements behave. We should find out more about this default behaviour and also learn how we can change it according to our needs.

https://www.learndesk.us/class/6606029947142144/lesson/61b3dc415db3dc3e0faf8304e8b459c8?ref=outlook-calendar
STATUS:CONFIRMED
SEQUENCE:3
BEGIN:VALARM
TRIGGER:-PT10M
DESCRIPTION:Class Reminder
ACTION:DISPLAY
END:VALARM
END:VEVENT
END:VCALENDAR