BEGIN:VCALENDAR
VERSION:2.0
CALSCALE:GREGORIAN
BEGIN:VEVENT
URL:https://www.learndesk.us/class/6606029947142144/lesson/6143fdb684563decfc30a83dd143618f?ref=outlook-calendar
SUMMARY:Flipping Elements and "backface-visibility"
DTSTART;TZID=America/Los_Angeles:20260423T190000
DTEND;TZID=America/Los_Angeles:20260423T200000
LOCATION:https://www.learndesk.us/class/6606029947142144/lesson/6143fdb684563decfc30a83dd143618f?ref=outlook-calendar
DESCRIPTION: When flipping (rotating) elements, we eventually see their backside. You can control what you see as you'll learn in this lecture.

https://www.learndesk.us/class/6606029947142144/lesson/6143fdb684563decfc30a83dd143618f?ref=outlook-calendar
STATUS:CONFIRMED
SEQUENCE:3
BEGIN:VALARM
TRIGGER:-PT10M
DESCRIPTION:Class Reminder
ACTION:DISPLAY
END:VALARM
END:VEVENT
END:VCALENDAR