BEGIN:VCALENDAR
VERSION:2.0
CALSCALE:GREGORIAN
BEGIN:VEVENT
URL:https://www.learndesk.us/class/6606029947142144/lesson/60a5d5b26979fcfe0fb91a070d02cc75?ref=outlook-calendar
SUMMARY:Using the "order" Property for a Flex Item
DTSTART;TZID=America/Los_Angeles:20260422T190000
DTEND;TZID=America/Los_Angeles:20260422T200000
LOCATION:https://www.learndesk.us/class/6606029947142144/lesson/60a5d5b26979fcfe0fb91a070d02cc75?ref=outlook-calendar
DESCRIPTION: Working with the Flex Container is a lot of fun, but what if we want to change the behaviour of a single Flex Item? Let's find out how this can be achieved with the "order" property.

https://www.learndesk.us/class/6606029947142144/lesson/60a5d5b26979fcfe0fb91a070d02cc75?ref=outlook-calendar
STATUS:CONFIRMED
SEQUENCE:3
BEGIN:VALARM
TRIGGER:-PT10M
DESCRIPTION:Class Reminder
ACTION:DISPLAY
END:VALARM
END:VEVENT
END:VCALENDAR