BEGIN:VCALENDAR
VERSION:2.0
CALSCALE:GREGORIAN
BEGIN:VEVENT
URL:https://www.learndesk.us/class/6606029947142144/lesson/5f558a895eddade511100827dd2ba023?ref=outlook-calendar
SUMMARY:More on Selectors and CSS Features
DTSTART;TZID=America/Los_Angeles:20260423T190000
DTEND;TZID=America/Los_Angeles:20260423T200000
LOCATION:https://www.learndesk.us/class/6606029947142144/lesson/5f558a895eddade511100827dd2ba023?ref=outlook-calendar
DESCRIPTION: 
In this section, we use multiple CSS classes and combined selectors before we wrap up this section.

Module Introduction
Using Multiple CSS Classes and Combined Selectors
Classes or IDs?
(Not) using Important
Selecting the Opposite with: not()
CSS and Browser Support
Wrap Up



https://www.learndesk.us/class/6606029947142144/lesson/5f558a895eddade511100827dd2ba023?ref=outlook-calendar
STATUS:CONFIRMED
SEQUENCE:3
BEGIN:VALARM
TRIGGER:-PT10M
DESCRIPTION:Class Reminder
ACTION:DISPLAY
END:VALARM
END:VEVENT
END:VCALENDAR