BEGIN:VCALENDAR
VERSION:2.0
CALSCALE:GREGORIAN
BEGIN:VEVENT
URL:https://www.learndesk.us/class/6606029947142144/lesson/5d5e248fed91efbf416367fac14d62af?ref=outlook-calendar
SUMMARY:Positioning Elements with CSS
DTSTART;TZID=America/Los_Angeles:20260422T190000
DTEND;TZID=America/Los_Angeles:20260422T200000
LOCATION:https://www.learndesk.us/class/6606029947142144/lesson/5d5e248fed91efbf416367fac14d62af?ref=outlook-calendar
DESCRIPTION: 
In this section, we position elements with CSS with the fixed value.

Module Introduction
Why Positioning will improve our Website
Understanding Positioning - The Theory
Working with the "fixed" Value
Creating a Fixed Navigation Bar
Using "position" to Add a Background Image
Understanding the Z-Index
Adding a Badge to our Package
Styling and Positioning our Badge with "absolute" and "relative"
Diving Deeper into Relative Positioning
Working with "overflow" and Relative Positioning
Introducing "sticky" Positioning
Understanding the Stacking Context
Wrap Up



https://www.learndesk.us/class/6606029947142144/lesson/5d5e248fed91efbf416367fac14d62af?ref=outlook-calendar
STATUS:CONFIRMED
SEQUENCE:3
BEGIN:VALARM
TRIGGER:-PT10M
DESCRIPTION:Class Reminder
ACTION:DISPLAY
END:VALARM
END:VEVENT
END:VCALENDAR