BEGIN:VCALENDAR
VERSION:2.0
CALSCALE:GREGORIAN
BEGIN:VEVENT
URL:https://www.learndesk.us/class/6606029947142144/lesson/5cb7f366a951f10d841411e3b10f9764?ref=outlook-calendar
SUMMARY:Your Challenge
DTSTART;TZID=America/Los_Angeles:20260422T190000
DTEND;TZID=America/Los_Angeles:20260422T200000
LOCATION:https://www.learndesk.us/class/6606029947142144/lesson/5cb7f366a951f10d841411e3b10f9764?ref=outlook-calendar
DESCRIPTION: Now it's your turn. You learned a lot so far, so let's take the chance and practice what we learned. Style the page on your own and try to achieve the result shown in this video.

https://www.learndesk.us/class/6606029947142144/lesson/5cb7f366a951f10d841411e3b10f9764?ref=outlook-calendar
STATUS:CONFIRMED
SEQUENCE:3
BEGIN:VALARM
TRIGGER:-PT10M
DESCRIPTION:Class Reminder
ACTION:DISPLAY
END:VALARM
END:VEVENT
END:VCALENDAR