BEGIN:VCALENDAR
VERSION:2.0
CALSCALE:GREGORIAN
BEGIN:VEVENT
URL:https://www.learndesk.us/class/6606029947142144/lesson/5ab13540b0fad3bd9f6d4c6fe1a1d2d6?ref=outlook-calendar
SUMMARY:Polyfills
DTSTART;TZID=America/Los_Angeles:20260422T190000
DTEND;TZID=America/Los_Angeles:20260422T200000
LOCATION:https://www.learndesk.us/class/6606029947142144/lesson/5ab13540b0fad3bd9f6d4c6fe1a1d2d6?ref=outlook-calendar
DESCRIPTION: If a browser doesn't support a certain feature, you can use a polyfill. Learn more about that in this lecture.

https://www.learndesk.us/class/6606029947142144/lesson/5ab13540b0fad3bd9f6d4c6fe1a1d2d6?ref=outlook-calendar
STATUS:CONFIRMED
SEQUENCE:3
BEGIN:VALARM
TRIGGER:-PT10M
DESCRIPTION:Class Reminder
ACTION:DISPLAY
END:VALARM
END:VEVENT
END:VCALENDAR