BEGIN:VCALENDAR
VERSION:2.0
CALSCALE:GREGORIAN
BEGIN:VEVENT
URL:https://www.learndesk.us/class/6606029947142144/lesson/594bfeb0a23d53514ecc10e0ed8bcf35?ref=outlook-calendar
SUMMARY:Adding the Customers Page to our Website
DTSTART;TZID=America/Los_Angeles:20260422T190000
DTEND;TZID=America/Los_Angeles:20260422T200000
LOCATION:https://www.learndesk.us/class/6606029947142144/lesson/594bfeb0a23d53514ecc10e0ed8bcf35?ref=outlook-calendar
DESCRIPTION: Time to continue working on the content of our web page. In this lecture, we'll add a brand new page to it: The customers page.

https://www.learndesk.us/class/6606029947142144/lesson/594bfeb0a23d53514ecc10e0ed8bcf35?ref=outlook-calendar
STATUS:CONFIRMED
SEQUENCE:3
BEGIN:VALARM
TRIGGER:-PT10M
DESCRIPTION:Class Reminder
ACTION:DISPLAY
END:VALARM
END:VEVENT
END:VCALENDAR