BEGIN:VCALENDAR
VERSION:2.0
CALSCALE:GREGORIAN
BEGIN:VEVENT
URL:https://www.learndesk.us/class/6606029947142144/lesson/569e4eddd9a8d4e729b8ac36942da1cb?ref=outlook-calendar
SUMMARY:Working with "skew" and "scale"
DTSTART;TZID=America/Los_Angeles:20260422T190000
DTEND;TZID=America/Los_Angeles:20260422T200000
LOCATION:https://www.learndesk.us/class/6606029947142144/lesson/569e4eddd9a8d4e729b8ac36942da1cb?ref=outlook-calendar
DESCRIPTION: We saw two of the four transform functions - time to also explore the remaining ones in this lecture.

https://www.learndesk.us/class/6606029947142144/lesson/569e4eddd9a8d4e729b8ac36942da1cb?ref=outlook-calendar
STATUS:CONFIRMED
SEQUENCE:3
BEGIN:VALARM
TRIGGER:-PT10M
DESCRIPTION:Class Reminder
ACTION:DISPLAY
END:VALARM
END:VEVENT
END:VCALENDAR