BEGIN:VCALENDAR
VERSION:2.0
CALSCALE:GREGORIAN
BEGIN:VEVENT
URL:https://www.learndesk.us/class/6606029947142144/lesson/55b7769005f1cd5a56e5224446a3feb6?ref=outlook-calendar
SUMMARY:Working with "align-items" and "justify-content"
DTSTART;TZID=America/Los_Angeles:20260422T190000
DTEND;TZID=America/Los_Angeles:20260422T200000
LOCATION:https://www.learndesk.us/class/6606029947142144/lesson/55b7769005f1cd5a56e5224446a3feb6?ref=outlook-calendar
DESCRIPTION: The standard positioning of our Flex Items might not be the one required by us. Time to understand which properties we can use to change this default behaviour.

https://www.learndesk.us/class/6606029947142144/lesson/55b7769005f1cd5a56e5224446a3feb6?ref=outlook-calendar
STATUS:CONFIRMED
SEQUENCE:3
BEGIN:VALARM
TRIGGER:-PT10M
DESCRIPTION:Class Reminder
ACTION:DISPLAY
END:VALARM
END:VEVENT
END:VCALENDAR