BEGIN:VCALENDAR
VERSION:2.0
CALSCALE:GREGORIAN
BEGIN:VEVENT
URL:https://www.learndesk.us/class/6606029947142144/lesson/554ffc30b777ba7efe487b58b6ceb204?ref=outlook-calendar
SUMMARY:Understanding the Viewport Units "vw" and "vh"
DTSTART;TZID=America/Los_Angeles:20260423T190000
DTEND;TZID=America/Los_Angeles:20260423T200000
LOCATION:https://www.learndesk.us/class/6606029947142144/lesson/554ffc30b777ba7efe487b58b6ceb204?ref=outlook-calendar
DESCRIPTION: Time to introduce the last units - "vw" and "vh" allow us to easily define the size of our element based on the viewport. Let's understand how this works and what we can do with "vmin" and "vmax

https://www.learndesk.us/class/6606029947142144/lesson/554ffc30b777ba7efe487b58b6ceb204?ref=outlook-calendar
STATUS:CONFIRMED
SEQUENCE:3
BEGIN:VALARM
TRIGGER:-PT10M
DESCRIPTION:Class Reminder
ACTION:DISPLAY
END:VALARM
END:VEVENT
END:VCALENDAR