BEGIN:VCALENDAR
VERSION:2.0
CALSCALE:GREGORIAN
BEGIN:VEVENT
URL:https://www.learndesk.us/class/6606029947142144/lesson/553ae04b7e254ae997659ff8fb23f59b?ref=outlook-calendar
SUMMARY:Changing the Line Height
DTSTART;TZID=America/Los_Angeles:20260423T190000
DTEND;TZID=America/Los_Angeles:20260423T200000
LOCATION:https://www.learndesk.us/class/6606029947142144/lesson/553ae04b7e254ae997659ff8fb23f59b?ref=outlook-calendar
DESCRIPTION: Another really interesting property is "line-height". Let's apply this property to our project and see how it helps us to define the height of our content box.

https://www.learndesk.us/class/6606029947142144/lesson/553ae04b7e254ae997659ff8fb23f59b?ref=outlook-calendar
STATUS:CONFIRMED
SEQUENCE:3
BEGIN:VALARM
TRIGGER:-PT10M
DESCRIPTION:Class Reminder
ACTION:DISPLAY
END:VALARM
END:VEVENT
END:VCALENDAR