BEGIN:VCALENDAR
VERSION:2.0
CALSCALE:GREGORIAN
BEGIN:VEVENT
URL:https://www.learndesk.us/class/6606029947142144/lesson/50fd027b42af25e9d5e5ae540f9ca135?ref=outlook-calendar
SUMMARY:Understanding Variables
DTSTART;TZID=America/Los_Angeles:20260422T190000
DTEND;TZID=America/Los_Angeles:20260422T200000
LOCATION:https://www.learndesk.us/class/6606029947142144/lesson/50fd027b42af25e9d5e5ae540f9ca135?ref=outlook-calendar
DESCRIPTION: Sass variables are another very cool feature. Time to take a closer look.

https://www.learndesk.us/class/6606029947142144/lesson/50fd027b42af25e9d5e5ae540f9ca135?ref=outlook-calendar
STATUS:CONFIRMED
SEQUENCE:3
BEGIN:VALARM
TRIGGER:-PT10M
DESCRIPTION:Class Reminder
ACTION:DISPLAY
END:VALARM
END:VEVENT
END:VCALENDAR