BEGIN:VCALENDAR
VERSION:2.0
CALSCALE:GREGORIAN
BEGIN:VEVENT
URL:https://www.learndesk.us/class/6606029947142144/lesson/4fb566025fbce3e18ef2d7c259b5b6c9?ref=outlook-calendar
SUMMARY:Working with "text-decoration" and "vertical-align"
DTSTART;TZID=America/Los_Angeles:20260425T190000
DTEND;TZID=America/Los_Angeles:20260425T200000
LOCATION:https://www.learndesk.us/class/6606029947142144/lesson/4fb566025fbce3e18ef2d7c259b5b6c9?ref=outlook-calendar
DESCRIPTION: Let's continue the work in our project and improve the styling of our navigation. For that, we will style links with "text-decoration" and align elements with "vertical-align".

https://www.learndesk.us/class/6606029947142144/lesson/4fb566025fbce3e18ef2d7c259b5b6c9?ref=outlook-calendar
STATUS:CONFIRMED
SEQUENCE:3
BEGIN:VALARM
TRIGGER:-PT10M
DESCRIPTION:Class Reminder
ACTION:DISPLAY
END:VALARM
END:VEVENT
END:VCALENDAR