BEGIN:VCALENDAR
VERSION:2.0
CALSCALE:GREGORIAN
BEGIN:VEVENT
URL:https://www.learndesk.us/class/6606029947142144/lesson/4e3b747b527bea7f0bd2925b0dfe9306?ref=outlook-calendar
SUMMARY:Getting Started
DTSTART;TZID=America/Los_Angeles:20260423T190000
DTEND;TZID=America/Los_Angeles:20260423T200000
LOCATION:https://www.learndesk.us/class/6606029947142144/lesson/4e3b747b527bea7f0bd2925b0dfe9306?ref=outlook-calendar
DESCRIPTION: 
In this section, after author introduction we look into what CSS is, its history and course outline. We also take a quick look into the recommended tools.

Introduction
What is CSS?
CSS History, Present and Future
Course Outline
Course Prerequisites
How To Get The Most Out Of This Course
Recommended Tools



https://www.learndesk.us/class/6606029947142144/lesson/4e3b747b527bea7f0bd2925b0dfe9306?ref=outlook-calendar
STATUS:CONFIRMED
SEQUENCE:3
BEGIN:VALARM
TRIGGER:-PT10M
DESCRIPTION:Class Reminder
ACTION:DISPLAY
END:VALARM
END:VEVENT
END:VCALENDAR