BEGIN:VCALENDAR
VERSION:2.0
CALSCALE:GREGORIAN
BEGIN:VEVENT
URL:https://www.learndesk.us/class/6606029947142144/lesson/4e36c591c901240e72b6a8b984cd2bb1?ref=outlook-calendar
SUMMARY:Understanding the "font" Shorthand
DTSTART;TZID=America/Los_Angeles:20260423T190000
DTEND;TZID=America/Los_Angeles:20260423T200000
LOCATION:https://www.learndesk.us/class/6606029947142144/lesson/4e36c591c901240e72b6a8b984cd2bb1?ref=outlook-calendar
DESCRIPTION: These were a lot of properties and always typing each single property is certainly not a lot of fun. Thankfully, we have the "font" shorthand. As this is a special shorthand, it definitely makes sense to have a closer look in this lecture.

https://www.learndesk.us/class/6606029947142144/lesson/4e36c591c901240e72b6a8b984cd2bb1?ref=outlook-calendar
STATUS:CONFIRMED
SEQUENCE:3
BEGIN:VALARM
TRIGGER:-PT10M
DESCRIPTION:Class Reminder
ACTION:DISPLAY
END:VALARM
END:VEVENT
END:VCALENDAR