BEGIN:VCALENDAR
VERSION:2.0
CALSCALE:GREGORIAN
BEGIN:VEVENT
URL:https://www.learndesk.us/class/6606029947142144/lesson/4e13fa5cb9d0e7dcccce5eeef6a14b03?ref=outlook-calendar
SUMMARY:Using "position" to Add a Background Image
DTSTART;TZID=America/Los_Angeles:20260422T190000
DTEND;TZID=America/Los_Angeles:20260422T200000
LOCATION:https://www.learndesk.us/class/6606029947142144/lesson/4e13fa5cb9d0e7dcccce5eeef6a14b03?ref=outlook-calendar
DESCRIPTION: The navigation bar works, but we also need a background image for our Packages page. Turns out that the "fixed" value can also be very helpful is this situation, so let's find our more.

https://www.learndesk.us/class/6606029947142144/lesson/4e13fa5cb9d0e7dcccce5eeef6a14b03?ref=outlook-calendar
STATUS:CONFIRMED
SEQUENCE:3
BEGIN:VALARM
TRIGGER:-PT10M
DESCRIPTION:Class Reminder
ACTION:DISPLAY
END:VALARM
END:VEVENT
END:VCALENDAR