BEGIN:VCALENDAR
VERSION:2.0
CALSCALE:GREGORIAN
BEGIN:VEVENT
URL:https://www.learndesk.us/class/6606029947142144/lesson/4d672b04c5b9109a2e9da2b2f1eaee57?ref=outlook-calendar
SUMMARY:Rotating the Container with "transform style"
DTSTART;TZID=America/Los_Angeles:20260422T190000
DTEND;TZID=America/Los_Angeles:20260422T200000
LOCATION:https://www.learndesk.us/class/6606029947142144/lesson/4d672b04c5b9109a2e9da2b2f1eaee57?ref=outlook-calendar
DESCRIPTION: When we start rotating everything, we can end up in quite confusing situations. Time to bring some light into the dark.

https://www.learndesk.us/class/6606029947142144/lesson/4d672b04c5b9109a2e9da2b2f1eaee57?ref=outlook-calendar
STATUS:CONFIRMED
SEQUENCE:3
BEGIN:VALARM
TRIGGER:-PT10M
DESCRIPTION:Class Reminder
ACTION:DISPLAY
END:VALARM
END:VEVENT
END:VCALENDAR