BEGIN:VCALENDAR
VERSION:2.0
CALSCALE:GREGORIAN
BEGIN:VEVENT
URL:https://www.learndesk.us/class/6606029947142144/lesson/4c380783450505dd033c71f99db7b5b8?ref=outlook-calendar
SUMMARY:Styling the Badge with "border-radius"
DTSTART;TZID=America/Los_Angeles:20260422T190000
DTEND;TZID=America/Los_Angeles:20260422T200000
LOCATION:https://www.learndesk.us/class/6606029947142144/lesson/4c380783450505dd033c71f99db7b5b8?ref=outlook-calendar
DESCRIPTION: The badge on the recommended plan doesn't stand out so far. Time to add some styling to it, to make clear that this is the plan to choose.

https://www.learndesk.us/class/6606029947142144/lesson/4c380783450505dd033c71f99db7b5b8?ref=outlook-calendar
STATUS:CONFIRMED
SEQUENCE:3
BEGIN:VALARM
TRIGGER:-PT10M
DESCRIPTION:Class Reminder
ACTION:DISPLAY
END:VALARM
END:VEVENT
END:VCALENDAR