BEGIN:VCALENDAR
VERSION:2.0
CALSCALE:GREGORIAN
BEGIN:VEVENT
URL:https://www.learndesk.us/class/6606029947142144/lesson/4b045d4377e6298746da8fc3283f2d75?ref=outlook-calendar
SUMMARY:What is Sass and Scss?
DTSTART;TZID=America/Los_Angeles:20260422T190000
DTEND;TZID=America/Los_Angeles:20260422T200000
LOCATION:https://www.learndesk.us/class/6606029947142144/lesson/4b045d4377e6298746da8fc3283f2d75?ref=outlook-calendar
DESCRIPTION: So what is Sass? Let's dive into this question (and answer it) in this module.

https://www.learndesk.us/class/6606029947142144/lesson/4b045d4377e6298746da8fc3283f2d75?ref=outlook-calendar
STATUS:CONFIRMED
SEQUENCE:3
BEGIN:VALARM
TRIGGER:-PT10M
DESCRIPTION:Class Reminder
ACTION:DISPLAY
END:VALARM
END:VEVENT
END:VCALENDAR