BEGIN:VCALENDAR
VERSION:2.0
CALSCALE:GREGORIAN
BEGIN:VEVENT
URL:https://www.learndesk.us/class/6606029947142144/lesson/49a485daf98119ffe002077ce6b4d2d2?ref=outlook-calendar
SUMMARY:Adding Style to our Plans
DTSTART;TZID=America/Los_Angeles:20260423T190000
DTEND;TZID=America/Los_Angeles:20260423T200000
LOCATION:https://www.learndesk.us/class/6606029947142144/lesson/49a485daf98119ffe002077ce6b4d2d2?ref=outlook-calendar
DESCRIPTION: Our page gets more and more beautiful, but there is still a lot of content and styling missing. So let's add our different hosting plans and some basic styling in this video.

https://www.learndesk.us/class/6606029947142144/lesson/49a485daf98119ffe002077ce6b4d2d2?ref=outlook-calendar
STATUS:CONFIRMED
SEQUENCE:3
BEGIN:VALARM
TRIGGER:-PT10M
DESCRIPTION:Class Reminder
ACTION:DISPLAY
END:VALARM
END:VEVENT
END:VCALENDAR