BEGIN:VCALENDAR
VERSION:2.0
CALSCALE:GREGORIAN
BEGIN:VEVENT
URL:https://www.learndesk.us/class/6606029947142144/lesson/48814a2537f92ce6f5872498f32fab79?ref=outlook-calendar
SUMMARY:Working with Timing Functions
DTSTART;TZID=America/Los_Angeles:20260422T190000
DTEND;TZID=America/Los_Angeles:20260422T200000
LOCATION:https://www.learndesk.us/class/6606029947142144/lesson/48814a2537f92ce6f5872498f32fab79?ref=outlook-calendar
DESCRIPTION: There are these strange "timing functions" as you learned. Let's now explore what exactly is up with these.

https://www.learndesk.us/class/6606029947142144/lesson/48814a2537f92ce6f5872498f32fab79?ref=outlook-calendar
STATUS:CONFIRMED
SEQUENCE:3
BEGIN:VALARM
TRIGGER:-PT10M
DESCRIPTION:Class Reminder
ACTION:DISPLAY
END:VALARM
END:VEVENT
END:VCALENDAR