BEGIN:VCALENDAR
VERSION:2.0
CALSCALE:GREGORIAN
BEGIN:VEVENT
URL:https://www.learndesk.us/class/6606029947142144/lesson/47d240526c99bf87fb91ad51b26188c4?ref=outlook-calendar
SUMMARY:Adding Combinators
DTSTART;TZID=America/Los_Angeles:20260422T190000
DTEND;TZID=America/Los_Angeles:20260422T200000
LOCATION:https://www.learndesk.us/class/6606029947142144/lesson/47d240526c99bf87fb91ad51b26188c4?ref=outlook-calendar
DESCRIPTION: For the styling of a website it is very important to define the look of the different parts of the website individually, because we definitely do not want our website to have the same style all over. Combinators helps us to achieve that.

https://www.learndesk.us/class/6606029947142144/lesson/47d240526c99bf87fb91ad51b26188c4?ref=outlook-calendar
STATUS:CONFIRMED
SEQUENCE:3
BEGIN:VALARM
TRIGGER:-PT10M
DESCRIPTION:Class Reminder
ACTION:DISPLAY
END:VALARM
END:VEVENT
END:VCALENDAR