BEGIN:VCALENDAR
VERSION:2.0
CALSCALE:GREGORIAN
BEGIN:VEVENT
URL:https://www.learndesk.us/class/6606029947142144/lesson/47659cf9416b6595f60752ec796f1ff7?ref=outlook-calendar
SUMMARY:Improving our Action Button
DTSTART;TZID=America/Los_Angeles:20260422T190000
DTEND;TZID=America/Los_Angeles:20260422T200000
LOCATION:https://www.learndesk.us/class/6606029947142144/lesson/47659cf9416b6595f60752ec796f1ff7?ref=outlook-calendar
DESCRIPTION: The action button at the bottom of each box will redirect the user to the plan purchasing page. We want to make sure that our users click these buttons, so some nice button style might be a good idea.

https://www.learndesk.us/class/6606029947142144/lesson/47659cf9416b6595f60752ec796f1ff7?ref=outlook-calendar
STATUS:CONFIRMED
SEQUENCE:3
BEGIN:VALARM
TRIGGER:-PT10M
DESCRIPTION:Class Reminder
ACTION:DISPLAY
END:VALARM
END:VEVENT
END:VCALENDAR